BEGIN:VCALENDAR
VERSION:2.0
PRODID:-//Science Teachers Association of Tasmania Inc. - ECPv5.2.1//NONSGML v1.0//EN
CALSCALE:GREGORIAN
METHOD:PUBLISH
X-WR-CALNAME:Science Teachers Association of Tasmania Inc.
X-ORIGINAL-URL:https://stat.org.au
X-WR-CALDESC:Events for Science Teachers Association of Tasmania Inc.
BEGIN:VTIMEZONE
TZID:Australia/Hobart
BEGIN:STANDARD
TZOFFSETFROM:+1100
TZOFFSETTO:+1000
TZNAME:AEST
DTSTART:20210403T160000
END:STANDARD
BEGIN:DAYLIGHT
TZOFFSETFROM:+1000
TZOFFSETTO:+1100
TZNAME:AEDT
DTSTART:20211002T160000
END:DAYLIGHT
END:VTIMEZONE
BEGIN:VEVENT
DTSTART;TZID=Australia/Hobart:20210326T083000
DTEND;TZID=Australia/Hobart:20210327T163000
DTSTAMP:20210227T042951
CREATED:20201211T004336Z
LAST-MODIFIED:20210222T103159Z
UID:2397-1616747400-1616862600@stat.org.au
SUMMARY:CONSTAT 2021
DESCRIPTION:
URL:https://stat.org.au/event/constat-2021/
LOCATION:Hobart College
END:VEVENT
END:VCALENDAR