BEGIN:VCALENDAR
VERSION:2.0
PRODID:-//Science Teachers Association of Tasmania Inc. - ECPv4.2.4//NONSGML v1.0//EN
CALSCALE:GREGORIAN
METHOD:PUBLISH
X-WR-CALNAME:Science Teachers Association of Tasmania Inc.
X-ORIGINAL-URL:http://stat.org.au
X-WR-CALDESC:Events for Science Teachers Association of Tasmania Inc.
BEGIN:VEVENT
DTSTART;VALUE=DATE:20180811
DTEND;VALUE=DATE:20180819
DTSTAMP:20180225T165725
CREATED:20171014
LAST-MODIFIED:20171017
UID:728-1533945600-1534723199@stat.org.au
SUMMARY:National Science Week 2018
DESCRIPTION:Tasmania always has an abundance of fantastic National Science Week offerings. 2018 promises to be just as action-packed as previous years. For information on how to get your school involved in local events\, and what grants are available for your school\, click the link below to go to the National Science Week national website.\nhttps://www.scienceweek.net.au/schools/
URL:http://stat.org.au/event/national-science-week-2018/
CATEGORIES:National Science Week
END:VEVENT
END:VCALENDAR